Workbook

Sheet INPUTAN DESA ....
A1: FORMULIR ISIAN PENGUKURAN STATUS DESA BERDASARKAN INDEKS DESA MEMBANGUN TAHUN 2020
A3: PERTANYAAN KUISIONER IDM 2020 | E3: OUTPUT | F3: SATUAN | G3: INPUT | I3: +an
A5: IP. IDENTITAS PETUGAS
A6: IP1 | B6: Nama Petugas | C6: Petugas | D6: 1 | E6: =G6 -> Nur Wahyudi | G6: Nur Wahyudi
A7: IP2 | B7: Tanggal Isi Kuesioner | C7: tgl_kuesioner | D7: =D6+1 -> 2 | E7: =G7 -> 43613 | G7: 43613
A8: IP3 | B8: Telp/HP Petugas | C8: telp_petugas | D8: =D7+1 -> 3 | E8: =G8 -> 081235363990 | G8: 081235363990
A9: I. IDENTITAS DESA
A10: 101 | B10: Nama Informan | C10: Informan | D10: =D8+1 -> 4 | E10: =G10 -> SUPRIANTO | G10: SUPRIANTO
A11: =A10+1 -> 102 | B11: Jabatan | C11: Jab_Informan | D11: =D10+1 -> 5 | E11: =G11 -> SEKRETARIS DESA | G11: SEKRETARIS DESA
A12: =A11+1 -> 103 | B12: No. Telepon Rumah / Hp Informan | C12: Tel_Informan | D12: =D11+1 -> 6 | E12: =G12 -> 082233962334 | G12: 082233962334
A13: =A12+1 -> 104 | B13: Tanggal Lahir Informan | C13: TL_Informan | D13: =D12+1 -> 7 | E13: =G13 -> 28045 | G13: 28045
A14: =A13+1 -> 105 | B14: Jenis Kelamin Informan | C14: JK_Informan | D14: =D13+1 -> 8 | E14: =G14 -> 1 | G14: 1
A15: =A14+1 -> 106 | B15: Kode Provinsi | C15: ID_Prov | D15: =D14+1 -> 9 | E15: =G15 -> 35 | G15: 35
B16: Nama Provinsi | C16: Prov | D16: =D15+1 -> 10 | E16: =G16 -> JAWA TIMUR | G16: JAWA TIMUR
A17: =A15+1 -> 107 | B17: Kode Kabupaten | C17: ID_Kab | D17: =D16+1 -> 11 | E17: =G17 -> 3507 | G17: 3507
B18: Nama Kabupaten | C18: Kab | D18: =D17+1 -> 12 | E18: =G18 -> KABUPATEN MALANG | G18: KABUPATEN MALANG
A19: =A17+1 -> 108 | B19: Kode Kecamatan | C19: ID_Kec | D19: =D18+1 -> 13 | E19: =G19 -> 350729 | G19: 350729
B20: Nama Kecamatan | C20: Kec | D20: =D19+1 -> 14 | E20: =G20 -> GEDANGAN | G20: GEDANGAN
A21: =A19+1 -> 109 | B21: Kode Desa | C21: ID_Desa | D21: =D20+1 -> 15 | E21: =G21 -> 3507292004 | G21: 3507292004
B22: Nama Desa | C22: Desa | D22: =D21+1 -> 16 | E22: =G22 -> GEDANGAN | G22: GEDANGAN
A23: =A21+1 -> 110 | B23: Titik Koordinat Desa | C23: Latitude (LU/LS) | D23: =D22+1 -> 17 | E23: =G23 -> 15. 10 24 | F23: LU/LS | G23: 15. 10 24
C24: Longitude (BB/BT) | D24: =D23+1 -> 18 | E24: =G24 -> 30. 23 456 | F24: BB/BT | G24: 30. 23 456
A25: =A23+1 -> 111 | B25: Alamat Lengkap Kantor Desa | C25: Alamat | D25: =D24+1 -> 19 | E25: =G25 -> Jl Diponegoro Gedangan Kec Gedangan Kab Malang | G25: Jl Diponegoro Gedangan Kec Gedangan Kab Malang
B26: Terdapat Kantor Desa | C26: Gedung Kantor Desa | D26: =D25+1 -> 20 | E26: =G26 -> HENDIK KRISDIANTO | G26: HENDIK KRISDIANTO
B27: Batas desa dalam bentuk peta yang telah ditetapkan oleh Bupati/Walikota | C27: Peta_Desa | D27: =D26+1 -> 21 | E27: =G27 -> 1 | G27: 1
A28: =A25+1 -> 112 | B28: a. Nama Plt/ Kepala Desa | C28: Plt/Kades | D28: =D27+1 -> 22 | E28: =G28 -> HENDIK KRISDIANTO | G28: HENDIK KRISDIANTO
B29: b. Jenis Kelamin Plt/ Kepala Desa | C29: JK_Plt/Kades | D29: =D28+1 -> 23 | E29: =G29 -> 1 | G29: 1
A30: =A28+1 -> 113 | B30: No. Telepon Rumah / Hp Plt/Kepala Desa | C30: Tel_Plt/Kades | D30: =D29+1 -> 24 | E30: =G30 -> 85649508080 | G30: 85649508080
A31: =A30+1 -> 114 | B31: No. Telepon Kantor Desa | C31: Tel_Kantor | D31: =D30+1 -> 25 | E31: =G31 -> 0 | G31: 0
A32: =A31+1 -> 115 | B32: Alamat Email Desa | C32: Email_Desa | D32: =D31+1 -> 26 | E32: =G32 -> deagedangan@yahoo.com | G32: deagedangan@yahoo.com
A33: =A32+1 -> 116 | B33: Akun Facebook Desa | C33: Fb_Desa | D33: =D32+1 -> 27 | E33: =G33 -> 0 | G33: 0
A34: =A33+1 -> 117 | B34: Akun Instagram Desa | C34: Ig_Desa | D34: =D33+1 -> 28 | E34: =G34 -> 0 | G34: 0
A35: =A34+1 -> 118 | B35: Akun Twitter Desa | C35: Twitter_Desa | D35: =D34+1 -> 29 | E35: =G35 -> 0 | G35: 0
A36: =A35+1 -> 119 | B36: Alamat Web Desa | C36: Alamat_Web_Desa | D36: =D35+1 -> 30 | E36: =G36 -> 0 | G36: 0
A37: =A36+1 -> 120 | B37: Pendidikan Terakhir Plt/ Kepala Desa | C37: Pend_Plt/Kades | D37: =D36+1 -> 31 | E37: =G37 -> 5 | G37: 5
A38: =A37+1 -> 121 | B38: Lama Masa Jabatan sebagai Plt/ Kepala Desa | C38: Lama_Masa_Plt/Kades | D38: =D37+1 -> 32 | E38: =G38 -> 2 Tahun | F38: Tahun dan Bulan | G38: 2 Tahun
A39: =A38+1 -> 122 | B39: Pendidikan Terakhir Plt/ Sekretaris Desa | C39: Pend_Plt/Sekdes | D39: =D38+1 -> 33 | E39: =G39 -> 3 | G39: 3
A40: =A39+1 -> 123 | B40: Lama Masa Jabatan sebagai Plt/ Sekretaris Desa | C40: Lama_Masa_Plt/Sekdes | D40: =D39+1 -> 34 | E40: =G40 -> 2 Tahun | F40: Tahun dan Bulan | G40: 2 Tahun
A41: =A40+1 -> 124 | B41: a. Sekretaris Desa | C41: Sekdes_Lk | D41: =D40+1 -> 35 | E41: =G41 -> 1 | F41: Orang | G41: 1
C42: Sekdes_Pr | D42: =D41+1 -> 36 | E42: =G42 -> 0 | F42: Orang | G42: 0
B43: b. Kepala Urusan Tata Usaha dan Umum | C43: KaurTU_Lk | D43: =D42+1 -> 37 | E43: =G43 -> 1 | F43: Orang | G43: 1
C44: KaurTU_Pr | D44: =D43+1 -> 38 | E44: =G44 -> 0 | F44: Orang | G44: 0
B45: c. Kepala Urusan Keuangan | C45: KaurKeu_Lk | D45: =D44+1 -> 39 | E45: =G45 -> 1 | F45: Orang | G45: 1
C46: KaurKeu_Pr | D46: =D45+1 -> 40 | E46: =G46 -> 0 | F46: Orang | G46: 0
B47: d. Kepala Urusan Perencanaan | C47: KaurCan_Lk | D47: =D46+1 -> 41 | E47: =G47 -> 1 | F47: Orang | G47: 1
C48: KaurCan_Pr | D48: =D47+1 -> 42 | E48: =G48 -> 0 | F48: Orang | G48: 0
B49: e. Kepala seksi pemerintahan | C49: KasiPemr_Lk | D49: =D48+1 -> 43 | E49: =G49 -> 1 | F49: Orang | G49: 1
C50: KasiPemr_Pr | D50: =D49+1 -> 44 | E50: =G50 -> 0 | F50: Orang | G50: 0
B51: f. Kepala seksi kesejahteraan | C51: KasiKesj_Lk | D51: =D50+1 -> 45 | E51: =G51 -> 1 | F51: Orang | G51: 1
C52: KasiKesj_Pr | D52: =D51+1 -> 46 | E52: =G52 -> 0 | F52: Orang | G52: 0
B53: g. Kepala seksi pelayanan | C53: KasiPel_Lk | D53: =D52+1 -> 47 | E53: =G53 -> 1 | F53: Orang | G53: 1
C54: KasiPel_Pr | D54: =D53+1 -> 48 | E54: =G54 -> 0 | F54: Orang | G54: 0
B55: h. Staf petugas Desa | C55: Stafdes_Lk | D55: =D54+1 -> 49 | E55: =G55 -> 1 | F55: Orang | G55: 1
C56: Stafdes_Pr | D56: =D55+1 -> 50 | E56: =G56 -> 0 | F56: Orang | G56: 0
B57: i. BPD dan Anggota | C57: BPD_Ang_Lk | D57: =D56+1 -> 51 | E57: =G57 -> 1 | F57: Orang | G57: 1
C58: BPD_Ang_Pr | D58: =D57+1 -> 52 | E58: =G58 -> 0 | F58: Orang | G58: 0
B59: j. LPM dan Anggota | C59: LPM_Ang_Lk | D59: =D58+1 -> 53 | E59: =G59 -> 1 | F59: Orang | G59: 1
C60: LPM_Ang_Pr | D60: =D59+1 -> 54 | E60: =G60 -> 0 | F60: Orang | G60: 0
B61: k. TP. PKK Desa | C61: TPPKK_Lk | D61: =D60+1 -> 55 | E61: =G61 -> 1 | F61: Orang | G61: 1
C62: TPPKK_Pr | D62: =D61+1 -> 56 | E62: =G62 -> 0 | F62: Orang | G62: 0
B63: l. Kepala Dusun | C63: Kadus_Lk | D63: =D62+1 -> 57 | E63: =G63 -> 1 | F63: Orang | G63: 1
C64: Kadus_Pr | D64: =D63+1 -> 58 | E64: =G64 -> 0 | F64: Orang | G64: 0
B65: m. Ketua RW | C65: KaRW_Lk | D65: =D64+1 -> 59 | E65: =G65 -> 1 | F65: Orang | G65: 1
C66: KaRW_Pr | D66: =D65+1 -> 60 | E66: =G66 -> 0 | F66: Orang | G66: 0
B67: n. Ketua RT | C67: KaRT_Lk | D67: =D66+1 -> 61 | E67: =G67 -> 1 | F67: Orang | G67: 1
C68: KaRT_Pr | D68: =D67+1 -> 62 | E68: =G68 -> 0 | F68: Orang | G68: 0
A69: II. DATA GEOGRAFI, TOPOGRAFI, DAN DEMOGRAFI
B70: DATA GEOGRAFI
B71: LUAS WILAYAH
A72: 201 | B72: Total Luas Wilayah Desa | C72: LWil_Desa | D72: =D68+1 -> 63 | E72: =G72 -> 19412 | F72: Km2 | G72: 19412
A73: =1+A72 -> 202 | B73: Hutan Desa | C73: Hutan_Desa | D73: =D72+1 -> 64 | E73: =G73 -> 65 | F73: Km2 | G73: 65
B74: DATA TOPOGRAFI
A75: =1+A73 -> 203 | B75: Jenis Wilayah Desa | C75: JenisWil_Desa | D75: =D73+1 -> 65 | E75: =G75 -> 2 | G75: 2
B76: DATA DEMOGRAFI
B77: PENDUDUK
B78: Jumlah Total Penduduk | C78: Total_Pend | D78: a | E78: =G78 -> 9571 | F78: Jiwa | G78: =SUM(G80:G81) -> 9571
A79: =1+A75 -> 204 | B79: Jumlah Total Penduduk | C79: Total_Pend | D79: =D75+1 -> 66 | E79: =G79 -> 9571 | F79: Jiwa | G79: =G78 -> 9571
A80: =1+A79 -> 205 | B80: Jumlah Penduduk Laki-laki | C80: Total_Lk | D80: =D79+1 -> 67 | E80: =G80 -> 4601 | F80: Jiwa | G80: 4601
A81: =1+A80 -> 206 | B81: Jumlah Penduduk Perempuan | C81: Total_Pr | D81: =D80+1 -> 68 | E81: =G81 -> 4970 | F81: Jiwa | G81: 4970
A82: =1+A81 -> 207 | B82: Jumlah Penduduk Pendatang sd Tahun 2020 | C82: Pendatang | D82: =D81+1 -> 69 | E82: =G82 -> 7 | F82: Jiwa | G82: 7
A83: =1+A82 -> 208 | B83: Jumlah Penduduk Pergi sd Tahun 2020 | C83: Pend_pergi | D83: =D82+1 -> 70 | E83: =G83 -> 11 | F83: Jiwa | G83: 11
B84: Kepala Keluarga
A85: =1+A83 -> 209 | B85: Jumlah Total Kepala Keluarga | C85: Total_KK | D85: =D83+1 -> 71 | E85: =G85 -> 2891 | F85: KK | G85: 2891
A86: =1+A85 -> 210 | B86: Jumlah Total Kepala Keluarga Perempuan | C86: Total_KKP | D86: =D85+1 -> 72 | E86: =G86 -> 342 | F86: KK | G86: 342
A87: =1+A86 -> 211 | B87: Jumlah Keluarga Miskin | C87: Total_KKmis | D87: =D86+1 -> 73 | E87: =G87 -> 619 | F87: KK | G87: 619
B88: Jumlah Penduduk Berdasarkan Struktur Usia
A89: =1+A87 -> 212 | B89: a. <1 tahun | C89: Total_By | D89: =D87+1 -> 74 | E89: =G89 -> 705 | F89: Jiwa | G89: 705
B90: b. 1-4 tahun | C90: Total_Balita | D90: =D89+1 -> 75 | E90: =G90 -> 1115 | F90: Jiwa | G90: 1115
B91: c. 5-14 tahun | C91: Total_Rmj | D91: =D90+1 -> 76 | E91: =G91 -> 1706 | F91: Jiwa | G91: 1706
B92: d. 15-39 tahun | C92: Total_Dw1 | D92: =D91+1 -> 77 | E92: =G92 -> 3069 | F92: Jiwa | G92: 3069
B93: e. 40-64 tahun | C93: Total_Dw2 | D93: =D92+1 -> 78 | E93: =G93 -> 1762 | F93: Jiwa | G93: 1762
B94: f. 65 tahun ke atas | C94: Total_Lansia | D94: =D93+1 -> 79 | E94: =G94 -> 1214 | F94: Jiwa | G94: 1214
B95: Jumlah Penduduk Berdasarkan Pekerjaan
A96: =1+A89 -> 213 | B96: a. Petani | C96: Petani_Lk | D96: =D94+1 -> 80 | E96: =G96 -> 23 | F96: Jiwa | G96: 23
C97: Petani_Pr | D97: =D96+1 -> 81 | E97: =G97 -> 56 | F97: Jiwa | G97: 56
B98: b. Nelayan | C98: Nelayan_Lk | D98: =D97+1 -> 82 | E98: =G98 -> 114 | F98: Jiwa | G98: 114
C99: Nelayan_Pr | D99: =D98+1 -> 83 | E99: =G99 -> 345 | F99: Jiwa | G99: 345
B100: c. Buruh Tani/Buruh Nelayan | C100: Buruh_tani_Lk | D100: =D99+1 -> 84 | E100: =G100 -> 67 | F100: Jiwa | G100: 67
C101: Buruh_tani_Pr | D101: =D100+1 -> 85 | E101: =G101 -> 96 | F101: Jiwa | G101: 96
B102: d. Buruh Pabrik | C102: Buruh_pabrik_Lk | D102: =D101+1 -> 86 | E102: =G102 -> 43 | F102: Jiwa | G102: 43
...

Sheet OLAH DATA PERITEM IDM 2020
A1: PENGOLAHAN DATA IDM
B3: PROVINSI | C3: =UPPER('INPUTAN DESA ....'!E16) -> JAWA TIMUR | E3: ='INPUTAN DESA ....'!E15 -> 35
B4: KABUPATEN | C4: =UPPER('INPUTAN DESA ....'!E18) -> KABUPATEN MALANG | E4: ='INPUTAN DESA ....'!E17 -> 3507
B5: KECAMATAN | C5: =UPPER('INPUTAN DESA ....'!E20) -> GEDANGAN | E5: ='INPUTAN DESA ....'!E19 -> 350729
B6: DESA | C6: =UPPER('INPUTAN DESA ....'!E22) -> GEDANGAN | E6: ='INPUTAN DESA ....'!E21 -> 3507292004
B7: STATUS DESA | E7: ='INPUTAN DESA ....'!E895 -> Maju
B8: SKOR | C8: IDM | E8: ='INPUTAN DESA ....'!E893 -> 0.75888889
C9: IKS | E9: ='INPUTAN DESA ....'!E833 -> 0.76
C10: IKE | E10: ='INPUTAN DESA ....'!E868 -> 0.58333333 | K10: UPDATE TANGGAL | L10: ='INPUTAN DESA ....'!G7 -> 43613
C11: IKL | E11: ='INPUTAN DESA ....'!E890 -> 0.93333333
A13: NO | B13: KOMPONEN INDEKS DESA MEMBANGUN
B14: INDEKS KOMPOSIT | C14: SKOR | D14: NILAI INDEKS KOMPOSIT | E14: DIMENSI | F14: SKOR | G14: NILAI DIMENSI | H14: PERANGKAT INDIKATOR | I14: SKOR | J14: NILAI PERANGKAT INDIKATOR | K14: INDIKATOR (ITEM) | L14: SKOR | M14: NILAI INDIKATOR (ITEM)
A15: 1 | B15: SOSIAL ( IKS ) | C15: =SUM(F15:F46) -> 133 | D15: =SUM(C15/R15) -> 0.76 | E15: KESEHATAN | F15: =I15+I17+I19 -> 22 | G15: =F15/Q15 -> 0.62857143 | H15: Pelayanan Kesehatan | I15: =L15+L16 -> 10 | J15: =I15/P15 -> 0.5 | K15: Jarak ke sarana kesehatan terdekat | L15: ='INPUTAN DESA ....'!G749 -> 5 | M15: =L15/5 -> 1 | O15: 5 | P15: =SUM(O15:O16) -> 20 | Q15: =SUM(P15:P19) -> 35 | R15: =SUM(Q15:Q46) -> 175
A16: =A15+1 -> 2 | K16: Ketersediaan Tenaga Kesehatan(bidan,Dokter dan Nakes Lain) | L16: =SUM('INPUTAN DESA ....'!G751,'INPUTAN DESA ....'!G753,'INPUTAN DESA ....'!G755) -> 5 | M16: =L16/15 -> 0.33333333 | O16: 15
A17: =A16+1 -> 3 | H17: Keberdayaan Masyarakat Untuk Kesehatan | I17: =L17+L18 -> 10 | J17: =I17/P17 -> 1 | K17: Askes ke poskesdes, polindes atau posyandu | L17: ='INPUTAN DESA ....'!G760 -> 5 | M17: =L17/5 -> 1 | O17: 5 | P17: =SUM(O17:O18) -> 10
A18: =A17+1 -> 4 | K18: Tingkat Aktivitas Posyandu | L18: ='INPUTAN DESA ....'!G763 -> 5 | M18: =L18/5 -> 1 | O18: 5
A19: =A18+1 -> 5 | H19: Jaminan Kesehatan | I19: =L19 -> 2 | J19: =I19/P19 -> 0.4 | K19: Tingkat Kepesertaan BPJS | L19: ='INPUTAN DESA ....'!G757 -> 2 | M19: =L19/5 -> 0.4 | O19: 5 | P19: =O19 -> 5
A20: =A19+1 -> 6 | E20: PENDIDIKAN | F20: =I20+I23+I26 -> 19 | G20: =F20/Q20 -> 0.54285714 | H20: Akses Pendidikan Dasar-Menengah | I20: =L20+L21+L22 -> 11 | J20: =I20/P20 -> 0.73333333 | K20: Akses Pendidikan Dasar SD/MI < 3 KM | L20: ='INPUTAN DESA ....'!G765 -> 5 | M20: =L20/5 -> 1 | O20: 5 | P20: =SUM(O20:O22) -> 15 | Q20: =SUM(P20:P26) -> 35
A21: =A20+1 -> 7 | K21: Akses Pendidikan SMP/MTs < 6 KM | L21: ='INPUTAN DESA ....'!G767 -> 5 | M21: =L21/5 -> 1 | O21: 5
A22: =A21+1 -> 8 | K22: Akses Pendidikan SMA/SMK/MA < 6 KM | L22: ='INPUTAN DESA ....'!G769 -> 1 | M22: =L22/5 -> 0.2 | O22: 5
A23: =A22+1 -> 9 | H23: Akses Pendidikan Non Formal | I23: =L23+L24+L25 -> 7 | J23: =I23/P23 -> 0.46666667 | K23: Kegiatan PAUD | L23: ='INPUTAN DESA ....'!G771 -> 5 | M23: =L23/5 -> 1 | O23: 5 | P23: =SUM(O23:O25) -> 15
A24: =A23+1 -> 10 | K24: Kegiatan PKBM/Paket A-B-C | L24: ='INPUTAN DESA ....'!G773 -> 1 | M24: =L24/5 -> 0.2 | O24: 5
A25: =A24+1 -> 11 | K25: Kegiatan Kursus | L25: ='INPUTAN DESA ....'!G775 -> 1 | M25: =L25/5 -> 0.2 | O25: 5
A26: =A25+1 -> 12 | H26: Akses Pengetahuan Masyarakat | I26: =L26 -> 1 | J26: =I26/P26 -> 0.2 | K26: Taman Bacaan Masyarakat atau Perpusatkaan Desa | L26: ='INPUTAN DESA ....'!G777 -> 1 | M26: =L26/5 -> 0.2 | O26: 5 | P26: =O26 -> 5
A27: =A26+1 -> 13 | E27: MODAL SOSIAL | F27: =SUM(I27:I38) -> 57 | G27: =F27/Q27 -> 0.87692308 | H27: Solidaritas Sosial | I27: =L27+L28+L29+L30 -> 17 | J27: =I27/P27 -> 0.68 | K27: Kebiasaan Gotong Royong | L27: =SUM('INPUTAN DESA ....'!G779,'INPUTAN DESA ....'!G781) -> 10 | M27: =L27/O27 -> 1 | O27: 10 | P27: =SUM(O27:O30) -> 25 | Q27: =SUM(P27:P37) -> 65
A28: =A27+1 -> 14 | K28: Keterbukaan Ruang Publik | L28: ='INPUTAN DESA ....'!G783 -> 1 | M28: =L28/O28 -> 0.2 | O28: 5
A29: =A28+1 -> 15 | K29: Terdapat Kelompok Olahraga | L29: ='INPUTAN DESA ....'!G785 -> 5 | M29: =L29/O29 -> 1 | O29: 5
A30: =A29+1 -> 16 | K30: Terdapat Kegiatan Olahraga | L30: ='INPUTAN DESA ....'!G787 -> 1 | M30: =L30/O30 -> 0.2 | O30: 5
A31: =A30+1 -> 17 | H31: Toleransi | I31: =SUM(L31:L33) -> 15 | J31: =I31/P31 -> 1 | K31: Keragaman Suku/Etnis di Desa | L31: ='INPUTAN DESA ....'!G800 -> 5 | M31: =L31/O31 -> 1 | O31: 5 | P31: =SUM(O31:O33) -> 15
A32: =A31+1 -> 18 | K32: Bahasa Sehari-hari Warga Desa | L32: ='INPUTAN DESA ....'!G799 -> 5 | M32: =L32/O32 -> 1 | O32: 5
A33: =A32+1 -> 19 | K33: Agama Mayoritas Warga Desa | L33: ='INPUTAN DESA ....'!G797 -> 5 | M33: =L33/O33 -> 1 | O33: 5
A34: =A33+1 -> 20 | H34: Rasa Aman Warga Desa | I34: =SUM(L34:L36) -> 15 | J34: =I34/P34 -> 1 | K34: Tersedianya Sarana Pos Kamling di Desa | L34: ='INPUTAN DESA ....'!G803 -> 5 | M34: =L34/O34 -> 1 | O34: 5 | P34: =SUM(O34:O36) -> 15
A35: =A34+1 -> 21 | K35: Partisipasi Warga Siskamling | L35: ='INPUTAN DESA ....'!G805 -> 5 | M35: =L35/O35 -> 1 | O35: 5
A36: =A35+1 -> 22 | K36: Kejadian Perkelahian Massal di desa | L36: ='INPUTAN DESA ....'!G807 -> 5 | M36: =L36/O36 -> 1 | O36: 5
A37: =A36+1 -> 23 | H37: Kesejahteraan Sosial | I37: =SUM(L37:L38) -> 10 | J37: =I37/P37 -> 1 | K37: Terdapat Akses ke Sekolah Luar Biasa | L37: ='INPUTAN DESA ....'!G813 -> 5 | M37: =L37/O37 -> 1 | O37: 5 | P37: =SUM(O37:O38) -> 10
A38: =A37+1 -> 24 | K38: Terdapat Penyandang Kesejahteraan Sosial ( Anjal dan Pengemis) | L38: ='INPUTAN DESA ....'!G810 -> 5 | M38: =L38/O38 -> 1 | O38: 5
A39: =A38+1 -> 25 | E39: PERMUKIMAN | F39: =SUM(I39:I44) -> 35 | G39: =F39/Q39 -> 0.875 | H39: Akses Air Bersih dan Layak Minum | I39: =SUM(L39:L40) -> 8 | J39: =I39/P39 -> 0.8 | K39: Mayoritas Warga Memiliki Sumber Air layak Minum | L39: ='INPUTAN DESA ....'!G828 -> 4 | M39: =L39/O39 -> 0.8 | O39: 5 | P39: =SUM(O39:O40) -> 10 | Q39: =SUM(P39:P44) -> 40
A40: =A39+1 -> 26 | K40: Akses Warga Memiliki Air Mandi dan Mencuci | L40: ='INPUTAN DESA ....'!G829 -> 4 | M40: =L40/O40 -> 0.8 | O40: 5
A41: =A40+1 -> 27 | H41: Akses ke Fasilitas Sanitasi | I41: =SUM(L41:L42) -> 9 | J41: =I41/P41 -> 0.9 | K41: Mayoritas Warga Memiliki Jamban | L41: ='INPUTAN DESA ....'!G824 -> 5 | M41: =L41/O41 -> 1 | O41: 5 | P41: =SUM(O41:O42) -> 10
A42: =A41+1 -> 28 | K42: Terdapat Tempat Pembuangan Sampah | L42: ='INPUTAN DESA ....'!G826 -> 4 | M42: =L42/O42 -> 0.8 | O42: 5
A43: =A42+1 -> 29 | H43: Akses Ke Fasilitas Listrik | I43: =L43 -> 5 | J43: =I43/P43 -> 1 | K43: Jumlah Keluarga yang telah memiliki aliran listrik | L43: ='INPUTAN DESA ....'!G816 -> 5 | M43: =L43/O43 -> 1 | O43: 5 | P43: =O43 -> 5
A44: =A43+1 -> 30 | H44: Akses Fasilitas Informasi dan Komunikasi | I44: =SUM(L44:L46) -> 13 | J44: =I44/P44 -> 0.86666667 | K44: Warga Memiliki Telepon seluler dan Sinyal Kuat | L44: ='INPUTAN DESA ....'!G818 -> 3 | M44: =L44/O44 -> 0.6 | O44: 5 | P44: =SUM(O44:O46) -> 15
A45: =A44+1 -> 31 | K45: Akses Internet di Kantor Desa | L45: ='INPUTAN DESA ....'!G820 -> 5 | M45: =L45/O45 -> 1 | O45: 5
A46: =A45+1 -> 32 | K46: Terdapat Akses Internet untuk warga | L46: ='INPUTAN DESA ....'!G822 -> 5 | M46: =L46/O46 -> 1 | O46: 5
A47: =A46+1 -> 33 | B47: EKONOMI ( IKE ) | C47: =SUM(F47:F58) -> 35 | D47: =SUM(C47/R47) -> 0.58333333 | E47: KERAGAMAN PRODUKSI | F47: =I47 -> 5 | G47: =F47/P47 -> 1 | H47: Keragaman Produksi Masyarakat Desa | I47: =L47 -> 5 | J47: =I47/P47 -> 1 | K47: Terdapat Lebih dari Satu Jenis Kegiatan Ekonomi Penduduk | L47: ='INPUTAN DESA ....'!G836 -> 5 | M47: =L47/O47 -> 1 | O47: 5 | P47: =O47 -> 5 | R47: =SUM(P47:P58) -> 60
A48: =A47+1 -> 34 | E48: PERDAGANGAN | F48: =I48 -> 8 | G48: =F48/P48 -> 0.53333333 | H48: Tersedianya Pusat Perdagangan | I48: =SUM(L48:L50) -> 8 | J48: =I48/P48 -> 0.53333333 | K48: Akses Penduduk ke Pusat Perdagangan (Pertokoan, Pasar Permanen) | L48: ='INPUTAN DESA ....'!G838 -> 2 | M48: =L48/O48 -> 0.4 | O48: 5 | P48: =SUM(O48:O50) -> 15
A49: =A48+1 -> 35 | K49: Terdapat Pasar Desa | L49: ='INPUTAN DESA ....'!G842 -> 1 | M49: =L49/O49 -> 0.2 | O49: 5
A50: =A49+1 -> 36 | K50: Terdapat Sektor Perdagangan (warung minimarket) | L50: ='INPUTAN DESA ....'!G844 -> 5 | M50: =L50/O50 -> 1 | O50: 5
A51: =A50+1 -> 37 | E51: AKSES DISTRIBUSI | F51: =I51 -> 0 | G51: =F51/P51 -> 0 | H51: Akses Distribusi Logistik | I51: =L51 -> 0 | J51: =I51/P51 -> 0 | K51: Terdapat Kantor Pos dan Jasa Logistik | L51: ='INPUTAN DESA ....'!G850 -> 0 | M51: =L51/O51 -> 0 | O51: 5 | P51: =O51 -> 5
A52: =A51+1 -> 38 | E52: AKSES KREDIT | F52: =I52 -> 2 | G52: =F52/P52 -> 0.2 | H52: Akkses Terhadap lembaga Keuangan dan Perkreditan | I52: =SUM(L52:L53) -> 2 | J52: =I52/P52 -> 0.2 | K52: Tersedianya Lembaga Pebankan Umum dan BPR | L52: ='INPUTAN DESA ....'!G853 -> 0 | M52: =L52/O52 -> 0 | O52: 5 | P52: =SUM(O52:O53) -> 10
A53: =A52+1 -> 39 | K53: Akses Penduduk ke Kredit | L53: ='INPUTAN DESA ....'!G856 -> 2 | M53: =L53/O53 -> 0.4 | O53: 5
A54: =A53+1 -> 40 | E54: LEMBAGA EKONOMI | F54: =I54 -> 8 | G54: =F54/P54 -> 0.8 | H54: Lembaga Ekonomi | I54: =SUM(L54:L55) -> 8 | J54: =I54/P54 -> 0.8 | K54: Tersedianya Lembaga Ekonomi Rakyat (Koperasi)/Bumdes | L54: ='INPUTAN DESA ....'!G859 -> 5 | M54: =L54/O54 -> 1 | O54: 5 | P54: =SUM(O54:O55) -> 10
A55: =A54+1 -> 41 | K55: Terdapat Usaha Kedai makanan, Restoran, Hotel dan Penginapan | L55: ='INPUTAN DESA ....'!G847 -> 3 | M55: =L55/O55 -> 0.6 | O55: 5
A56: =A55+1 -> 42 | E56: KETERBUKAAN WILAYAH | F56: =I56 -> 12 | G56: =F56/P56 -> 0.8 | H56: Keterbukaan Wilayah | I56: =SUM(L56:L58) -> 12 | J56: =I56/P56 -> 0.8 | K56: Terdapat Moda (Angkutan Umum, Trayek Reguler dan Jam Operasi) | L56: ='INPUTAN DESA ....'!G861 -> 3 | M56: =L56/O56 -> 0.6 | O56: 5 | P56: =SUM(O56:O58) -> 15
A57: =A56+1 -> 43 | K57: Jalan yang Dapat Dilalui oleh Kendaraan Bermotor Roda Empat atau Lebih | L57: ='INPUTAN DESA ....'!G863 -> 5 | M57: =L57/O57 -> 1 | O57: 5
A58: =A57+1 -> 44 | K58: Kualitas Jalan Desa | L58: ='INPUTAN DESA ....'!G865 -> 4 | M58: =L58/O58 -> 0.8 | O58: 5
A59: =A58+1 -> 45 | B59: LINGKUNGAN ( IKL ) | C59: =SUM(F59:F68) -> 14 | D59: =SUM(C59/R59) -> 0.93333333 | E59: KUALTIAS LINGKUNGAN | F59: =I59 -> 5 | G59: =F59/P59 -> 1 | H59: Kualitas Lingkungan | I59: =L59 -> 5 | J59: =I59/O59 -> 1 | K59: Pencemaran Air, Tanah dan Udara | L59: ='INPUTAN DESA ....'!G875 -> 5 | M59: =L59/O59 -> 1 | O59: 5 | P59: =O59 -> 5 | R59: =SUM(P59:P61) -> 15
A60: =A59+1 -> 46 | E60: POTENSI DAN TANGGAP BENCANA | F60: =I60+I61 -> 9 | G60: =F60/P60 -> 0.9 | H60: Potensi Rawan Bencana | I60: =L60 -> 5 | J60: =I60/O60 -> 1 | K60: Kejadian Bencana Alam (Banjir, Tanah Longsor, Kebakaran Hutan) | L60: ='INPUTAN DESA ....'!G881 -> 5 | M60: =L60/O60 -> 1 | O60: 5 | P60: =SUM(O60:O61) -> 10
A61: =A60+1 -> 47 | H61: Tanggap Bencana | I61: =L61 -> 4 | J61: =I61/O61 -> 0.8 | K61: Upaya/Tindakan terhadap Potensi Bencana Alam | L61: ='INPUTAN DESA ....'!G887 -> 4 | M61: =L61/O61 -> 0.8 | O61: 5

Sheet Grafik IKS
A1: A | B1: KESEHATAN | C1: =SUM('OLAH DATA PERITEM IDM 2020'!G15:G19) -> 0.62857143
B2: Per Indikator | D2: Per Item
B3: Pelayanan Kesehatan | C3: =SUM('OLAH DATA PERITEM IDM 2020'!J15:J16) -> 0.5 | D3: Jarak ke sarana kesehatan terdekat | E3: ='OLAH DATA PERITEM IDM 2020'!M15 -> 1 | X3: ='OLAH DATA PERITEM IDM 2020'!J15 -> 0.5
D4: Ketersediaan Tenaga Kesehatan(bidan,Dokter dan Nakes Lain) | E4: ='OLAH DATA PERITEM IDM 2020'!M16 -> 0.33333333
B5: Keberdayaan Masyarakat Untuk Kesehatan | C5: =SUM('OLAH DATA PERITEM IDM 2020'!J16:J17) -> 1 | D5: Askes ke poskesdes, polindes atau posyandu | E5: ='OLAH DATA PERITEM IDM 2020'!M17 -> 1
D6: Tingkat Aktivitas Posyandu | E6: ='OLAH DATA PERITEM IDM 2020'!M18 -> 1
B7: Jaminan Kesehatan | C7: ='OLAH DATA PERITEM IDM 2020'!J19 -> 0.4 | D7: Tingkat Kepesertaan BPJS | E7: ='OLAH DATA PERITEM IDM 2020'!M19 -> 0.4
A9: B | B9: PENDIDIKAN | C9: =SUM('OLAH DATA PERITEM IDM 2020'!G20:G26) -> 0.54285714
B10: Akses Pendidikan Dasar-Menengah | C10: =SUM('OLAH DATA PERITEM IDM 2020'!J20:J22) -> 0.73333333 | D10: Akses Pendidikan Dasar SD/MI < 3 KM | E10: ='OLAH DATA PERITEM IDM 2020'!M20 -> 1
D11: Akses Pendidikan SMP/MTs < 6 KM | E11: ='OLAH DATA PERITEM IDM 2020'!M21 -> 1
D12: Akses Pendidikan SMA/SMK/MA < 6 KM | E12: ='OLAH DATA PERITEM IDM 2020'!M22 -> 0.2
B13: Akses Pendidikan Non Formal | C13: =SUM('OLAH DATA PERITEM IDM 2020'!J23:J25) -> 0.46666667 | D13: Kegiatan PAUD | E13: ='OLAH DATA PERITEM IDM 2020'!M23 -> 1
D14: Kegiatan PKBM/Paket A-B-C | E14: ='OLAH DATA PERITEM IDM 2020'!M24 -> 0.2
D15: Kegiatan Kursus | E15: ='OLAH DATA PERITEM IDM 2020'!M25 -> 0.2
B16: Akses Pengetahuan Masyarakat | C16: ='OLAH DATA PERITEM IDM 2020'!J26 -> 0.2 | D16: Taman Bacaan Masyarakat atau Perpusatkaan Desa | E16: ='OLAH DATA PERITEM IDM 2020'!M26 -> 0.2
A18: C | B18: MODAL SOSIAL | C18: =SUM('OLAH DATA PERITEM IDM 2020'!G27:G32) -> 0.87692308
B19: Solidaritas Sosial | C19: =SUM('OLAH DATA PERITEM IDM 2020'!J27:J30) -> 0.68 | D19: Kebiasaan Gotong Royong | E19: ='OLAH DATA PERITEM IDM 2020'!M27 -> 1
D20: Keterbukaan Ruang Publik | E20: ='OLAH DATA PERITEM IDM 2020'!M28 -> 0.2
D21: Terdafat Kelompok Olahraga | E21: ='OLAH DATA PERITEM IDM 2020'!M29 -> 1
D22: Terdapat Kegiatan Olahraga | E22: ='OLAH DATA PERITEM IDM 2020'!M30 -> 0.2
B23: Toleransi | C23: =SUM('OLAH DATA PERITEM IDM 2020'!J31:J33) -> 1 | D23: Keragaman Suku/Etnis di Desa | E23: ='OLAH DATA PERITEM IDM 2020'!M31 -> 1
D24: Bahasa Sehari-hari Warga Desa | E24: ='OLAH DATA PERITEM IDM 2020'!M32 -> 1
D25: Agama Mayoritas Warga Desa | E25: ='OLAH DATA PERITEM IDM 2020'!M33 -> 1
B26: Rasa Aman Warga Desa | C26: =SUM('OLAH DATA PERITEM IDM 2020'!J34:J36) -> 1 | D26: Tersedianya Sarana Pos Kamling di Desa | E26: ='OLAH DATA PERITEM IDM 2020'!M34 -> 1
D27: Partisipasi Warga Siskamling | E27: ='OLAH DATA PERITEM IDM 2020'!M35 -> 1
D28: Kejadian Perkelahian Massal di desa | E28: ='OLAH DATA PERITEM IDM 2020'!M36 -> 1
B29: Kesejahteraan Sosial | C29: =SUM('OLAH DATA PERITEM IDM 2020'!J37:J38) -> 1 | D29: Terdapat Akses ke Sekolah Luar Biasa | E29: ='OLAH DATA PERITEM IDM 2020'!M37 -> 1
D30: Terdapat Penyandang Kesejahteraan Sosial ( Anjal dan Pengemis) | E30: ='OLAH DATA PERITEM IDM 2020'!M38 -> 1
A32: D | B32: PEMUKIMAN | C32: =SUM('OLAH DATA PERITEM IDM 2020'!G39:G46) -> 0.875
B33: Akses Air Bersih dan Layak Minum | C33: =SUM('OLAH DATA PERITEM IDM 2020'!J39:J40) -> 0.8 | D33: Mayoritas Warga Memiliku Sumber Air layak Minum | E33: ='OLAH DATA PERITEM IDM 2020'!M39 -> 0.8
D34: Akses Warga Memiliki Air Mandi dan Mencuci | E34: ='OLAH DATA PERITEM IDM 2020'!M40 -> 0.8
B35: Akses ke Fasilitas Sanitasi | C35: =SUM('OLAH DATA PERITEM IDM 2020'!J41:J42) -> 0.9 | D35: Mayoritas Warga Memiliki Jamban | E35: ='OLAH DATA PERITEM IDM 2020'!M41 -> 1
D36: Terdapat Tempat Pembuangan Sampah | E36: ='OLAH DATA PERITEM IDM 2020'!M42 -> 0.8
B37: Akses Ke Fasilitas Listrik | C37: ='OLAH DATA PERITEM IDM 2020'!J43 -> 1 | D37: Jumlah Keluarga yang telah memiliki aliran listrik | E37: ='OLAH DATA PERITEM IDM 2020'!M43 -> 1
B38: Akses Fasilitas Informasi dan Komunikasi | C38: ='OLAH DATA PERITEM IDM 2020'!J44 -> 0.86666667 | D38: Warga Memiliki Telepon seluler dan Sinyal Kuat | E38: ='OLAH DATA PERITEM IDM 2020'!M44 -> 0.6
D39: Akses Internet di Kantor Desa | E39: ='OLAH DATA PERITEM IDM 2020'!M45 -> 1
D40: Terdapat Akses Internet untuk warga | E40: ='OLAH DATA PERITEM IDM 2020'!M46 -> 1

Sheet Grafik IKE
A1: A | B1: KERAGAMAN PRODUKSI
B2: Keragaman Produksi Masyarakat Desa | C2: =SUM('OLAH DATA PERITEM IDM 2020'!J47) -> 1 | D2: Terdapat Lebih dari Satu Jenis Kegiatan Ekonomi Penduduk | E2: ='OLAH DATA PERITEM IDM 2020'!M47 -> 1
A3: B | B3: PERDAGANGAN
B4: Tersedianya Pusat Perdagangan | C4: =SUM('OLAH DATA PERITEM IDM 2020'!J48:J50) -> 0.53333333 | D4: Akses Penduduk ke Pusat Perdagangan (Pertokoan, Pasar Permanen) | E4: ='OLAH DATA PERITEM IDM 2020'!M48 -> 0.4
D5: Terdapatm Pasar Desa | E5: ='OLAH DATA PERITEM IDM 2020'!M49 -> 0.2
D6: Terdapat Sektor Perdagangan (warung minimarket) | E6: ='OLAH DATA PERITEM IDM 2020'!M50 -> 1
A7: C | B7: AKSES DISTRIBUSI
B8: Akses Distribusi Logistik | C8: =SUM('OLAH DATA PERITEM IDM 2020'!J51) -> 0 | D8: Terdapat Kantor Pos dan Jasa Logistik | E8: ='OLAH DATA PERITEM IDM 2020'!M51 -> 0
A9: D | B9: AKSES KREDIT
B10: Akkses Terhadap lembaga Keuangan dan Perkreditan | C10: =SUM('OLAH DATA PERITEM IDM 2020'!J52:J53) -> 0.2 | D10: Tersedianya Lembaga Pebankan Umum dan BPR | E10: ='OLAH DATA PERITEM IDM 2020'!M52 -> 0
D11: Akses Penduduk ke Kredit | E11: ='OLAH DATA PERITEM IDM 2020'!M53 -> 0.4
A12: E | B12: LEMBAGA EKONOMI
B13: Lembaga Ekonomi | C13: =SUM('OLAH DATA PERITEM IDM 2020'!J54:J55) -> 0.8 | D13: Tersedianya Lembaga Ekonomi Rakyat (Koperasi)/Bumdes | E13: ='OLAH DATA PERITEM IDM 2020'!M54 -> 1
D14: Terdapat Usaha Kedai makanan, Restoran, Hotel dan Penginapan | E14: ='OLAH DATA PERITEM IDM 2020'!M55 -> 0.6
A15: F | B15: KETERBUKAAN WILAYAH
B16: Keterbukaan Wilayah | C16: =SUM('OLAH DATA PERITEM IDM 2020'!J56:J58) -> 0.8 | D16: Terdapat Moda (Angkutan Umum, Trayek Reguler dan Jam Operasi) | E16: ='OLAH DATA PERITEM IDM 2020'!M56 -> 0.6
D17: Jalan yang Dapat Dilalui oleh Kendaraan Bermotor Roda Empat atau Lebih | E17: ='OLAH DATA PERITEM IDM 2020'!M57 -> 1
D18: Kualitas Jalan Desa | E18: ='OLAH DATA PERITEM IDM 2020'!M58 -> 0.8

Sheet Grafik IKL
A1: A | B1: KUALTIAS LINGKUNGAN | C1: ='OLAH DATA PERITEM IDM 2020'!G59 -> 1
B2: Kualitas Lingkungan | C2: ='OLAH DATA PERITEM IDM 2020'!J59 -> 1 | D2: Pencemaran Air, Tanah dan Udara | E2: ='OLAH DATA PERITEM IDM 2020'!M59 -> 1
A3: B | B3: POTENSI DAN TANGGAP BANCANA | C3: =SUM('OLAH DATA PERITEM IDM 2020'!G60:G61) -> 0.9
B4: Potensi Rawan Bencana | C4: ='OLAH DATA PERITEM IDM 2020'!J60 -> 1 | D4: Kejadian Bencana Alam (Banjir, Tanah Longsor, Kebakaran Hutan) | E4: ='OLAH DATA PERITEM IDM 2020'!M60 -> 1
B5: Tanggap Bencana | C5: ='OLAH DATA PERITEM IDM 2020'!J61 -> 0.8 | D5: Upaya/Tindakan terhadap Potensi Bencana Alam | E5: ='OLAH DATA PERITEM IDM 2020'!M61 -> 0.8

Sheet Grafik IDM
A1: ="DESA"&" "&'OLAH DATA PERITEM IDM 2020'!C6 -> DESA GEDANGAN
A2: SOSIAL (IKS) | B2: =SUM('OLAH DATA PERITEM IDM 2020'!D15:D32) -> 0.76
A3: EKONOMI (IKE) | B3: =SUM('OLAH DATA PERITEM IDM 2020'!D47:D58) -> 0.58333333
A4: LINGKUNGAN (IKL) | B4: =SUM('OLAH DATA PERITEM IDM 2020'!D59:D61) -> 0.93333333

Sheet REKAP STATISTIK DESA 2020
A1: KOMPONEN INDEKS DESA MEMBANGUN TAHUN 2020
A3: DESA | B3: : | C3: =UPPER('INPUTAN DESA ....'!G22) -> GEDANGAN
A4: KECAMATAN | B4: : | C4: =UPPER('INPUTAN DESA ....'!G20) -> GEDANGAN
A5: KABUPATEN | B5: : | C5: =UPPER('INPUTAN DESA ....'!G18) -> KABUPATEN MALANG
A6: PROVINSI | B6: : | C6: =UPPER('INPUTAN DESA ....'!G16) -> JAWA TIMUR
A7: STATUS IDM | B7: : | C7: =UPPER('INPUTAN DESA ....'!G894) -> MAJU
A8: NILAI IDM | B8: : | C8: ='INPUTAN DESA ....'!G893 -> 0.75888889
A10: INDEKS KOMPOSIT | C10: DIMENSI | D10: SKOR | E10: NILAI | F10: PERANGKAT INDIKATOR | G10: SKOR | H10: NILAI | I10: INDIKATOR PERITEM | J10: SKOR | K10: EXISTING DARI INDIKATOR UMUM | M10: KEWENANGAN
A11: SOSIAL ( IKS ) | C11: KESEHATAN | D11: =SUM(G11:G15) -> 22 | E11: =D11/35 -> 0.62857143 | F11: Pelayanan Kesehatan | G11: =SUM(J11:J12) -> 10 | H11: =G11/20 -> 0.5 | I11: Jarak ke sarana kesehatan terdekat | J11: ='OLAH DATA PERITEM IDM 2020'!L15 -> 5 | K11: =L11 -> 1 | L11: ='OLAH DATA PERITEM IDM 2020'!M15 -> 1 | M11: Dinkes/ PUPR
A12: IKS | B12: =SUM(D11,D16,D23,D35)/175 -> 0.76 | I12: Ketersediaan Tenaga Kesehatan(bidan,Dokter dan Nakes Lain) | J12: ='OLAH DATA PERITEM IDM 2020'!L16 -> 5 | K12: =L12 -> 0.33333333 | L12: ='OLAH DATA PERITEM IDM 2020'!M16 -> 0.33333333 | M12: Dinkes
A13: KESEHATAN | B13: =E11 -> 0.62857143 | F13: Keberdayaan Masyarakat Untuk Kesehatan | G13: =SUM(J13:J14) -> 10 | H13: =G13/10 -> 1 | I13: Askes ke poskesdes, polindes atau posyandu | J13: ='OLAH DATA PERITEM IDM 2020'!L17 -> 5 | K13: =L13 -> 1 | L13: ='OLAH DATA PERITEM IDM 2020'!M17 -> 1 | M13: Dinkes/ PUPR
A14: PENDIDIKAN | B14: =E16 -> 0.54285714 | I14: Tingkat Aktivitas Posyandu | J14: ='OLAH DATA PERITEM IDM 2020'!L18 -> 5 | K14: =L14 -> 1 | L14: ='OLAH DATA PERITEM IDM 2020'!M18 -> 1 | M14: Desa/ Dinkes
A15: MODAL SOSIAL | B15: =E23 -> 0.87692308 | F15: Jaminan Kesehatan | G15: =J15 -> 2 | H15: =G15/5 -> 0.4 | I15: Tingkat Kepesertaan BPJS | J15: ='OLAH DATA PERITEM IDM 2020'!L19 -> 2 | K15: =L15 -> 0.4 | L15: ='OLAH DATA PERITEM IDM 2020'!M19 -> 0.4 | M15: Desa/ Dinsos PMD
A16: PERMUKIMAN | B16: =E35 -> 0.875 | C16: PENDIDIKAN | D16: =SUM(G16:G22) -> 19 | E16: =D16/35 -> 0.54285714 | F16: Akses Pendidikan Dasar-Menengah | G16: =SUM(J16:J18) -> 11 | H16: =G16/15 -> 0.73333333 | I16: Akses Pendidikan Dasar SD/MI < 3 KM | J16: ='OLAH DATA PERITEM IDM 2020'!L20 -> 5 | K16: =L16 -> 1 | L16: ='OLAH DATA PERITEM IDM 2020'!M20 -> 1 | M16: Disdik
I17: Akses Pendidikan SMP/MTs < 6 KM | J17: ='OLAH DATA PERITEM IDM 2020'!L21 -> 5 | K17: =L17 -> 1 | L17: ='OLAH DATA PERITEM IDM 2020'!M21 -> 1 | M17: Disdik
I18: Akses Pendidikan SMA/SMK/MA < 6 KM | J18: ='OLAH DATA PERITEM IDM 2020'!L22 -> 1 | K18: =L18 -> 0.2 | L18: ='OLAH DATA PERITEM IDM 2020'!M22 -> 0.2 | M18: Disdik Provinsi
F19: Akses Pendidikan Non Formal | G19: =SUM(J19:J21) -> 7 | H19: =G19/15 -> 0.46666667 | I19: Kegiatan PAUD | J19: ='OLAH DATA PERITEM IDM 2020'!L23 -> 5 | K19: =L19 -> 1 | L19: ='OLAH DATA PERITEM IDM 2020'!M23 -> 1 | M19: Desa/ Disdik
I20: Kegiatan PKBM/Paket A-B-C | J20: ='OLAH DATA PERITEM IDM 2020'!L24 -> 1 | K20: =L20 -> 0.2 | L20: ='OLAH DATA PERITEM IDM 2020'!M24 -> 0.2 | M20: Desa/ Disdik
I21: Kegiatan Kursus | J21: ='OLAH DATA PERITEM IDM 2020'!L25 -> 1 | K21: =L21 -> 0.2 | L21: ='OLAH DATA PERITEM IDM 2020'!M25 -> 0.2 | M21: Desa/ Disdik/ Disnakertrans
F22: Akses Pengetahuan Masyarakat | G22: =J22 -> 1 | H22: =G22/5 -> 0.2 | I22: Taman Bacaan Masyarakat atau Perpusatkaan Desa | J22: ='OLAH DATA PERITEM IDM 2020'!L26 -> 1 | K22: =L22 -> 0.2 | L22: ='OLAH DATA PERITEM IDM 2020'!M26 -> 0.2 | M22: Desa/ Disdik/ Arpusda
C23: MODAL SOSIAL | D23: =SUM(G23:G33) -> 57 | E23: =D23/65 -> 0.87692308 | F23: Solidaritas Sosial | G23: =SUM(J23:J26) -> 17 | H23: =G23/25 -> 0.68 | I23: Kebiasaan Gotong Royong | J23: ='OLAH DATA PERITEM IDM 2020'!L27 -> 10 | K23: =L23 -> 1 | L23: ='OLAH DATA PERITEM IDM 2020'!M27 -> 1 | M23: Desa
I24: Keterbukaan Ruang Publik | J24: ='OLAH DATA PERITEM IDM 2020'!L28 -> 1 | K24: =L24 -> 0.2 | L24: ='OLAH DATA PERITEM IDM 2020'!M28 -> 0.2 | M24: Desa/ Diskominfo
I25: Terdapat Kelompok Olahraga | J25: ='OLAH DATA PERITEM IDM 2020'!L29 -> 5 | K25: =L25 -> 1 | L25: ='OLAH DATA PERITEM IDM 2020'!M29 -> 1 | M25: Desa/ Disporapar
I26: Terdapat Kegiatan Olahraga | J26: ='OLAH DATA PERITEM IDM 2020'!L30 -> 1 | K26: =L26 -> 0.2 | L26: ='OLAH DATA PERITEM IDM 2020'!M30 -> 0.2 | M26: Desa
F27: Toleransi | G27: =SUM(J27:J29) -> 15 | H27: =G27/15 -> 1 | I27: Keragaman Suku/Etnis di Desa | J27: ='OLAH DATA PERITEM IDM 2020'!L31 -> 5 | K27: =L27 -> 1 | L27: ='OLAH DATA PERITEM IDM 2020'!M31 -> 1 | M27: Desa
I28: Bahasa Sehari-hari Warga Desa | J28: ='OLAH DATA PERITEM IDM 2020'!L32 -> 5 | K28: =L28 -> 1 | L28: ='OLAH DATA PERITEM IDM 2020'!M32 -> 1 | M28: Desa
I29: Agama Mayoritas Warga Desa | J29: ='OLAH DATA PERITEM IDM 2020'!L33 -> 5 | K29: =L29 -> 1 | L29: ='OLAH DATA PERITEM IDM 2020'!M33 -> 1 | M29: Desa/ Kemenag
F30: Rasa Aman Warga Desa | G30: =SUM(J30:J32) -> 15 | H30: =G30/15 -> 1 | I30: Tersedianya Sarana Pos Kamling di Desa | J30: ='OLAH DATA PERITEM IDM 2020'!L34 -> 5 | K30: =L30 -> 1 | L30: ='OLAH DATA PERITEM IDM 2020'!M34 -> 1 | M30: Desa/ Kesbangpolinmas
I31: Partisipasi Warga Siskamling | J31: ='OLAH DATA PERITEM IDM 2020'!L35 -> 5 | K31: =L31 -> 1 | L31: ='OLAH DATA PERITEM IDM 2020'!M35 -> 1 | M31: Desa
I32: Kejadian Perkelahian Massal di desa | J32: ='OLAH DATA PERITEM IDM 2020'!L36 -> 5 | K32: =L32 -> 1 | L32: ='OLAH DATA PERITEM IDM 2020'!M36 -> 1 | M32: POLRI
F33: Kesejahteraan Sosial | G33: =SUM(J33:J34) -> 10 | H33: =G33/10 -> 1 | I33: Terdapat Akses ke Sekolah Luar Biasa | J33: ='OLAH DATA PERITEM IDM 2020'!L37 -> 5 | K33: =L33 -> 1 | L33: ='OLAH DATA PERITEM IDM 2020'!M37 -> 1 | M33: Disdik
I34: Terdapat Penyandang Kesejahteraan Sosial ( Anjal dan Pengemis) | J34: ='OLAH DATA PERITEM IDM 2020'!L38 -> 5 | K34: =L34 -> 1 | L34: ='OLAH DATA PERITEM IDM 2020'!M38 -> 1 | M34: Dinsos PMD
C35: PERMUKIMAN | D35: =SUM(G35:G42) -> 35 | E35: =D35/40 -> 0.875 | F35: Akses Air Bersih dan Layak Minum | G35: =SUM(J35:J36) -> 8 | H35: =G35/10 -> 0.8 | I35: Mayoritas Warga Memiliki Sumber Air layak Minum | J35: ='OLAH DATA PERITEM IDM 2020'!L39 -> 4 | K35: =L35 -> 0.8 | L35: ='OLAH DATA PERITEM IDM 2020'!M39 -> 0.8 | M35: Desa/ Perkim LH/ Dinkes
I36: Akses Warga Memiliki Air Mandi dan Mencuci | J36: ='OLAH DATA PERITEM IDM 2020'!L40 -> 4 | K36: =L36 -> 0.8 | L36: ='OLAH DATA PERITEM IDM 2020'!M40 -> 0.8 | M36: Desa/ Perkim LH/ Dinkes
F37: Akses ke Fasilitas Sanitasi | G37: =SUM(J37:J38) -> 9 | H37: =G37/10 -> 0.9 | I37: Mayoritas Warga Memiliki Jamban | J37: ='OLAH DATA PERITEM IDM 2020'!L41 -> 5 | K37: =L37 -> 1 | L37: ='OLAH DATA PERITEM IDM 2020'!M41 -> 1 | M37: Desa/ Perkim LH/ Dinkes
I38: Terdapat Tempat Pembuangan Sampah | J38: ='OLAH DATA PERITEM IDM 2020'!L42 -> 4 | K38: =L38 -> 0.8 | L38: ='OLAH DATA PERITEM IDM 2020'!M42 -> 0.8 | M38: Desa/ Perkim LH/ Dinkes
F39: Akses Ke Fasilitas Listrik | G39: =J39 -> 5 | H39: =G39/5 -> 1 | I39: Jumlah Keluarga yang telah memiliki aliran listrik | J39: ='OLAH DATA PERITEM IDM 2020'!L43 -> 5 | K39: =L39 -> 1 | L39: ='OLAH DATA PERITEM IDM 2020'!M43 -> 1 | M39: Desa/ PLN
F40: Akses Fasilitas Informasi dan Komunikasi | G40: =SUM(J40:J42) -> 13 | H40: =G40/15 -> 0.86666667 | I40: Warga Memiliki Telepon seluler dan Sinyal Kuat | J40: ='OLAH DATA PERITEM IDM 2020'!L44 -> 3 | K40: =L40 -> 0.6 | L40: ='OLAH DATA PERITEM IDM 2020'!M44 -> 0.6 | M40: Desa/ Diskominfo
I41: Akses Internet di Kantor Desa | J41: ='OLAH DATA PERITEM IDM 2020'!L45 -> 5 | K41: =L41 -> 1 | L41: ='OLAH DATA PERITEM IDM 2020'!M45 -> 1 | M41: Desa/ Diskominfo
I42: Terdapat Akses Internet untuk warga | J42: ='OLAH DATA PERITEM IDM 2020'!L46 -> 5 | K42: =L42 -> 1 | L42: ='OLAH DATA PERITEM IDM 2020'!M46 -> 1 | M42: Desa/ Diskominfo
A43: EKONOMI ( IKE ) | C43: KERAGAMAN PRODUKSI | D43: =G43 -> 5 | E43: =H43 -> 1 | F43: Keragaman Produksi Masyarakat Desa | G43: =J43 -> 5 | H43: =G43/5 -> 1 | I43: Terdapat Lebih dari Satu Jenis Kegiatan Ekonomi Penduduk | J43: ='OLAH DATA PERITEM IDM 2020'!L47 -> 5 | K43: =L43 -> 1 | L43: ='OLAH DATA PERITEM IDM 2020'!M47 -> 1 | M43: Desa Kumindag/ Dinsos PMD
A44: KERAGAMAN PRODUKSI | B44: =E43 -> 1 | C44: PERDAGANGAN | D44: =G44 -> 8 | E44: =H44 -> 0.53333333 | F44: Tersedianya Pusat Perdagangan | G44: =SUM(J44:J46) -> 8 | H44: =G44/15 -> 0.53333333 | I44: Akses Penduduk ke Pusat Perdagangan (Pertokoan, Pasar Permanen) | J44: ='OLAH DATA PERITEM IDM 2020'!L48 -> 2 | K44: =L44 -> 0.4 | L44: ='OLAH DATA PERITEM IDM 2020'!M48 -> 0.4 | M44: Desa/ Diskumindag/ PUPR
A45: PERDAGANGAN | B45: =E44 -> 0.53333333 | I45: Terdapat Pasar Desa | J45: ='OLAH DATA PERITEM IDM 2020'!L49 -> 1 | K45: =L45 -> 0.2 | L45: ='OLAH DATA PERITEM IDM 2020'!M49 -> 0.2 | M45: Diskumindag/ Dinsos PMD
A46: AKSES DISTRIBUSI | B46: =E47 -> 0 | I46: Terdapat Sektor Perdagangan (warung minimarket) | J46: ='OLAH DATA PERITEM IDM 2020'!L50 -> 5 | K46: =L46 -> 1 | L46: ='OLAH DATA PERITEM IDM 2020'!M50 -> 1 | M46: Diskumindag/ Swasta
A47: AKSES KREDIT | B47: =E48 -> 0.2 | C47: AKSES DISTRIBUSI | D47: =G47 -> 0 | E47: =H47 -> 0 | F47: Akses Distribusi Logistik | G47: =J47 -> 0 | H47: =G47/5 -> 0 | I47: Terdapat Kantor Pos dan Jasa Logistik | J47: ='OLAH DATA PERITEM IDM 2020'!L51 -> 0 | K47: =L47 -> 0 | L47: ='OLAH DATA PERITEM IDM 2020'!M51 -> 0 | M47: Pemda/ Swasta
A48: LEMBAGA EKONOMI | B48: =E50 -> 0.8 | C48: AKSES KREDIT | D48: =G48 -> 2 | E48: =H48 -> 0.2 | F48: Akkses Terhadap lembaga Keuangan dan Perkreditan | G48: =SUM(J48:J49) -> 2 | H48: =G48/10 -> 0.2 | I48: Tersedianya Lembaga Pebankan Umum dan BPR | J48: ='OLAH DATA PERITEM IDM 2020'!L52 -> 0 | K48: =L48 -> 0 | L48: ='OLAH DATA PERITEM IDM 2020'!M52 -> 0 | M48: Pemda/ Bank
A49: KETERBUKAAN WILAYAH | B49: =E52 -> 0.8 | I49: Akses Penduduk ke Kredit | J49: ='OLAH DATA PERITEM IDM 2020'!L53 -> 2 | K49: =L49 -> 0.4 | L49: ='OLAH DATA PERITEM IDM 2020'!M53 -> 0.4 | M49: Penda/ BPN/ Bank
A50: IKE | B50: =SUM(D43:D54)/60 -> 0.58333333 | C50: LEMBAGA EKONOMI | D50: =G50 -> 8 | E50: =H50 -> 0.8 | F50: Lembaga Ekonomi | G50: =SUM(J50:J51) -> 8 | H50: =G50/10 -> 0.8 | I50: Tersedianya Lembaga Ekonomi Rakyat (Koperasi)/Bumdes | J50: ='OLAH DATA PERITEM IDM 2020'!L54 -> 5 | K50: =L50 -> 1 | L50: ='OLAH DATA PERITEM IDM 2020'!M54 -> 1 | M50: Desa/ Diskumindag
I51: Terdapat Usaha Kedai makanan, Restoran, Hotel dan Penginapan | J51: ='OLAH DATA PERITEM IDM 2020'!L55 -> 3 | K51: =L51 -> 0.6 | L51: ='OLAH DATA PERITEM IDM 2020'!M55 -> 0.6 | M51: Desa/ Swasta
A52: Kualitas Lingkungan | B52: =H55 -> 1 | C52: KETERBUKAAN WILAYAH | D52: =G52 -> 12 | E52: =H52 -> 0.8 | F52: Keterbukaan Wilayah | G52: =SUM(J52:J54) -> 12 | H52: =G52/15 -> 0.8 | I52: Terdapat Moda (Angkutan Umum, Trayek Reguler dan Jam Operasi) | J52: ='OLAH DATA PERITEM IDM 2020'!L56 -> 3 | K52: =L52 -> 0.6 | L52: ='OLAH DATA PERITEM IDM 2020'!M56 -> 0.6 | M52: Dinas Perhubungan/ Swasta
A53: Potensi Rawan Bencana | B53: =H56 -> 1 | I53: Jalan yang Dapat Dilalui oleh Kendaraan Bermotor Roda Empat atau Lebih | J53: ='OLAH DATA PERITEM IDM 2020'!L57 -> 5 | K53: =L53 -> 1 | L53: ='OLAH DATA PERITEM IDM 2020'!M57 -> 1 | M53: Perkim LH/ PUPR/ Desa
A54: Tanggap Bencana | B54: =H57 -> 0.8 | I54: Kualitas Jalan Desa | J54: ='OLAH DATA PERITEM IDM 2020'!L58 -> 4 | K54: =L54 -> 0.8 | L54: ='OLAH DATA PERITEM IDM 2020'!M58 -> 0.8 | M54: Perkim LH/ PUPR/ Desa
A55: LINGKUNGAN ( IKL ) | C55: KUALTIAS LINGKUNGAN | D55: =G55 -> 5 | E55: =H55 -> 1 | F55: Kualitas Lingkungan | G55: =J55 -> 5 | H55: =G55/5 -> 1 | I55: Pencemaran Air, Tanah dan Udara | J55: ='OLAH DATA PERITEM IDM 2020'!L59 -> 5 | K55: =L55 -> 1 | L55: ='OLAH DATA PERITEM IDM 2020'!M59 -> 1 | M55: Desa/ BPBD/ PERKIM LH
A56: IKL | B56: =SUM(D55:D57)/15 -> 0.93333333 | C56: POTENSI DAN TANGGAP BENCANA | D56: =SUM(G56:G57) -> 9 | E56: =D56/10 -> 0.9 | F56: Potensi Rawan Bencana | G56: =J56 -> 5 | H56: =G56/5 -> 1 | I56: Kejadian Bencana Alam (Banjir, Tanah Longsor, Kebakaran Hutan) | J56: ='OLAH DATA PERITEM IDM 2020'!L60 -> 5 | K56: =L56 -> 1 | L56: ='OLAH DATA PERITEM IDM 2020'!M60 -> 1 | M56: Desa/ BPBD/ PERKIM LH
F57: Tanggap Bencana | G57: =J57 -> 4 | H57: =G57/5 -> 0.8 | I57: Upaya/Tindakan terhadap Potensi Bencana Alam | J57: ='OLAH DATA PERITEM IDM 2020'!L61 -> 4 | K57: =L57 -> 0.8 | L57: ='OLAH DATA PERITEM IDM 2020'!M61 -> 0.8 | M57: Desa/ BPBD/ PERKIM LH/ Dinsos PMD
A58: KESIMPULAN DAN TINDAK LANJUT

Sheet Lap. Stunting
A1: LAPORAN KONVERGENSI PENCEGAHAN STUNTING TINGKAT DESA
A2: TERHADAP SASARAN RUMAH TANGGA 1.000 HPK TAHUN 2019
A5: PROVINSI | C5: :
A6: KABUPATEN | C6: :
A7: KECAMATAN | C7: :
A8: DESA | C8: :
A9: TABEL 1. JUMLAH SASARAN 1.000 HPK (IBU HAMIL DAN ANAK 0-23 TAHUN)
A10: SASARAN | E10: JUMLAH TOTAL RUMAH TANGGA 1.000 HPK | F10: IBU HAMIL | H10: ANAK 0-23 BULAN
F11: TOTAL | G11: KEK/ RESTI | H11: TOTAL | J11: GIZI KURANG/ GIZI BURUK/ STUNTING
A12: JUMLAH
A14: TABEL 2. HASIL PENGUKURAN TIKAR PERTUMBUHAN (DETEKSI DINI STUNTING)
A15: SASARAN | E15: JUMLAH TOTAL ANAK USIA 0-23 BULAN | F15: HIJAU (NORMAL) | G15: KUNING (RESIKO STUNTING) | H15: MERAH (TERINDIKASI STUNTING)
A16: JUMLAH
A18: TABEL 3. KELENGKAPAN KONVERGENSI PAKET LAYANAN PENCEGAHAN STUNTING BAGI 1.000 HPK
A19: SASARAN | C19: INDIKATOR | H19: JUMLAH | L19: %
A20: IBU HAMIL | C20: 1 | D20: PERIKSA 4 KALI SELAMA KEHAMILAN
C21: 2 | D21: MENDAPAT DAN MEMINUM PIL SE SELAMA 90 HARI
C22: 3 | D22: IBU BERSALIN MENDAPAT LAYANAN PEMERIKSAAN NIFAS 3 KALI
C23: 4 | D23: MENGIKUTI KONSELING GIZI/ KELAS IBU MINIMAL 4 KALI
C24: 5 | D24: IBU HAMIL (KEK/ RESTI) MENDAPAT KUNJUNGAN RUMAH BULANAN
C25: 6 | D25: RUMAH TANGGA IBU HAMIL MEMILIKI AKSES AIR MINUM AMAN
C26: 7 | D26: RUMAH TANGGA IBU HAMIL MEMILIKI JAMBAN LAYAK
C27: 8 | D27: MEMILIKI JAMINAN KESEHATAN
A28: ANAK USIA 0-23 BULAN (0-2 TAHUN) | C28: 1 | D28: ANAK USIA <12 BULAN MENDAPAT IMUNISASI DASAR LENGKAP
C29: 2 | D29: DITIMBANG BERAT BADAN RUTIN SETIAP BULAN
C30: 3 | D30: DIUKUR PANJANG/ TINGGI BADAN 2 KALI DALAM SETAHUN
C31: 4 | D31: ORANG TUA/ PENGASUH MENGIKUTI KONSELING GIZI BULANAN | H31: LAKI | J31: JML
C33: 5 | D33: KUNJUNGAN RUMAH BAGI ANAK GIZI BURUK/ KURANG/ STUNTING
C34: 6 | D34: RUMAH TANGGA ANAK 0-2 TH MEMILIKI AKSES AIR MINUM AMAN
C35: 7 | D35: RUMAH TANGGA ANAK 0-2 TH MEMILIKI JAMBAN LAYAK
C36: 8 | D36: ANAK 0-2 TH JAMINAN KESEHATAN
C37: 9 | D37: ANAK 0-2 TH BULAN AKTA LAHIR
C38: 10 | D38: ORANG TUA/ PENGASUH MENGIKUTI PARENTING BULANAN (PAUD)
A39: ANAK >2-6 TAHUN | C39: 1 | D39: ANAK >2-6 TAHUN AKTIF DALAM KEGIATAN PAUD MINIMAL 80%
A41: TABEL 4. TINGKAT KONVERGENSI DESA
A42: NO | B42: SASARAN | E42: JUMLAH INDIKATOR | G42: TINGKAT KONVERGENSI
E43: YANG DITERIMA | F43: SEHARUSNYA DITERIMA
A44: 1 | B44: IBU HAMIL
A45: 2 | B45: ANAK 0-23 BULAN
A47: TABEL 5. PENGGUNAAN DANA DESA DALAM PENCEGAHAN STUNTING
A48: NO | B48: BIDANG/ KEGIATAN | E48: TOTAL ALOKASI DANA | F48: KEGIATAN KHUSUS PENCEGAHAN STUNTING
F49: ALOKASI DANA | G49: % (PERSEN)
A50: 1 | B50: BIDANG PEMBANGUNAN DESA
A51: 2 | B51: BIDANG PEMBERDAYAAN MASYARAKAT
